BEGIN:VCALENDAR
VERSION:2.0
PRODID:-//Västergötlands ornitologiska förening - ECPv6.15.17.1//NONSGML v1.0//EN
CALSCALE:GREGORIAN
METHOD:PUBLISH
X-ORIGINAL-URL:https://vgof.se
X-WR-CALDESC:Händelser för Västergötlands ornitologiska förening
REFRESH-INTERVAL;VALUE=DURATION:PT1H
X-Robots-Tag:noindex
X-PUBLISHED-TTL:PT1H
BEGIN:VTIMEZONE
TZID:Europe/Stockholm
BEGIN:DAYLIGHT
TZOFFSETFROM:+0100
TZOFFSETTO:+0200
TZNAME:CEST
DTSTART:20250330T010000
END:DAYLIGHT
BEGIN:STANDARD
TZOFFSETFROM:+0200
TZOFFSETTO:+0100
TZNAME:CET
DTSTART:20251026T010000
END:STANDARD
BEGIN:DAYLIGHT
TZOFFSETFROM:+0100
TZOFFSETTO:+0200
TZNAME:CEST
DTSTART:20260329T010000
END:DAYLIGHT
BEGIN:STANDARD
TZOFFSETFROM:+0200
TZOFFSETTO:+0100
TZNAME:CET
DTSTART:20261025T010000
END:STANDARD
BEGIN:DAYLIGHT
TZOFFSETFROM:+0100
TZOFFSETTO:+0200
TZNAME:CEST
DTSTART:20270328T010000
END:DAYLIGHT
BEGIN:STANDARD
TZOFFSETFROM:+0200
TZOFFSETTO:+0100
TZNAME:CET
DTSTART:20271031T010000
END:STANDARD
END:VTIMEZONE
BEGIN:VEVENT
DTSTART;TZID=Europe/Stockholm:20260412T050000
DTEND;TZID=Europe/Stockholm:20260412T050000
DTSTAMP:20260421T152319
CREATED:20260118T135118Z
LAST-MODIFIED:20260118T135118Z
UID:10000709-1775970000-1775970000@vgof.se
SUMMARY:Orrspelsmorgon i Jäla
DESCRIPTION:Även om antalet orrar har minskat är möjligheterna goda att få höra och se fint orrspel. Ändå är de allt\novanligare storspovarna en minst lika stor behållning. Ljungpipare finns och hörs. \nÄven härlig vårkänsla i skogen och på mossen med många trastar och hackspettar.\nAnmälan till Åke tfn 070 660 24 53
URL:https://vgof.se/evenemang/orrspelsmorgon-i-jala/
LOCATION:Wetterlinsgatan 23A Falköping\, Wetterlinsgatan 23A\, Falköping\, Sverige
ATTACH;FMTTYPE=image/jpeg:https://vgof.se/wp-content/uploads/sites/31/2018/07/ffk.jpg
END:VEVENT
BEGIN:VEVENT
DTSTART;TZID=Europe/Stockholm:20260331T180000
DTEND;TZID=Europe/Stockholm:20260331T180000
DTSTAMP:20260421T152319
CREATED:20260118T131902Z
LAST-MODIFIED:20260118T131902Z
UID:10000694-1774980000-1774980000@vgof.se
SUMMARY:Tisdagsträff
DESCRIPTION:Traditionellt innehåll\, lite snack\, lite fika. \nVälkomna!
URL:https://vgof.se/evenemang/tisdagstraff/2026-03-31/
LOCATION:Wetterlinsgatan 23A Falköping\, Wetterlinsgatan 23A\, Falköping\, Sverige
ATTACH;FMTTYPE=image/jpeg:https://vgof.se/wp-content/uploads/sites/31/2018/07/ffk.jpg
END:VEVENT
END:VCALENDAR