BEGIN:VCALENDAR
VERSION:2.0
PRODID:-//Västergötlands ornitologiska förening - ECPv6.15.17.1//NONSGML v1.0//EN
CALSCALE:GREGORIAN
METHOD:PUBLISH
X-ORIGINAL-URL:https://vgof.se
X-WR-CALDESC:Händelser för Västergötlands ornitologiska förening
REFRESH-INTERVAL;VALUE=DURATION:PT1H
X-Robots-Tag:noindex
X-PUBLISHED-TTL:PT1H
BEGIN:VTIMEZONE
TZID:Europe/Stockholm
BEGIN:DAYLIGHT
TZOFFSETFROM:+0100
TZOFFSETTO:+0200
TZNAME:CEST
DTSTART:20250330T010000
END:DAYLIGHT
BEGIN:STANDARD
TZOFFSETFROM:+0200
TZOFFSETTO:+0100
TZNAME:CET
DTSTART:20251026T010000
END:STANDARD
BEGIN:DAYLIGHT
TZOFFSETFROM:+0100
TZOFFSETTO:+0200
TZNAME:CEST
DTSTART:20260329T010000
END:DAYLIGHT
BEGIN:STANDARD
TZOFFSETFROM:+0200
TZOFFSETTO:+0100
TZNAME:CET
DTSTART:20261025T010000
END:STANDARD
BEGIN:DAYLIGHT
TZOFFSETFROM:+0100
TZOFFSETTO:+0200
TZNAME:CEST
DTSTART:20270328T010000
END:DAYLIGHT
BEGIN:STANDARD
TZOFFSETFROM:+0200
TZOFFSETTO:+0100
TZNAME:CET
DTSTART:20271031T010000
END:STANDARD
END:VTIMEZONE
BEGIN:VEVENT
DTSTART;TZID=Europe/Stockholm:20260412T070000
DTEND;TZID=Europe/Stockholm:20260412T070000
DTSTAMP:20260421T164419
CREATED:20260118T142311Z
LAST-MODIFIED:20260118T142311Z
UID:10000723-1775977200-1775977200@vgof.se
SUMMARY:Exkursion Skaraborg
DESCRIPTION:Nu drar utesäsongen i gång och vi besöker någon lämplig fågellokal i Skaraborg. \nSamling vid Studiefrämjandet den 12 april klockan 07:00.
URL:https://vgof.se/evenemang/exkursion-skaraborg/
LOCATION:Kållandsgatan 20\, Kållandsgatan 20\, Lidköping\, Sverige
ATTACH;FMTTYPE=image/jpeg:https://vgof.se/wp-content/uploads/sites/31/2018/07/lfk.jpg
END:VEVENT
BEGIN:VEVENT
DTSTART;TZID=Europe/Stockholm:20260407T190000
DTEND;TZID=Europe/Stockholm:20260407T190000
DTSTAMP:20260421T164419
CREATED:20260118T142214Z
LAST-MODIFIED:20260118T142214Z
UID:10000722-1775588400-1775588400@vgof.se
SUMMARY:Klubbmöte
DESCRIPTION:Tisdagen den 7 april klockan 19:00 träffs vi i Studiefrämjandets lokaler för att lyssna till representanter från en fågelklubb i närheten. \nVilken verksamhet har man och vilka fågellokaler värderar man högt
URL:https://vgof.se/evenemang/klubbmote/
LOCATION:Kållandsgatan 20\, Kållandsgatan 20\, Lidköping\, Sverige
ATTACH;FMTTYPE=image/jpeg:https://vgof.se/wp-content/uploads/sites/31/2018/07/lfk.jpg
END:VEVENT
END:VCALENDAR