BEGIN:VCALENDAR
VERSION:2.0
PRODID:-//Västergötlands ornitologiska förening - ECPv6.15.17.1//NONSGML v1.0//EN
CALSCALE:GREGORIAN
METHOD:PUBLISH
X-WR-CALNAME:Västergötlands ornitologiska förening
X-ORIGINAL-URL:https://vgof.se
X-WR-CALDESC:Händelser för Västergötlands ornitologiska förening
REFRESH-INTERVAL;VALUE=DURATION:PT1H
X-Robots-Tag:noindex
X-PUBLISHED-TTL:PT1H
BEGIN:VTIMEZONE
TZID:Europe/Stockholm
BEGIN:DAYLIGHT
TZOFFSETFROM:+0100
TZOFFSETTO:+0200
TZNAME:CEST
DTSTART:20250330T010000
END:DAYLIGHT
BEGIN:STANDARD
TZOFFSETFROM:+0200
TZOFFSETTO:+0100
TZNAME:CET
DTSTART:20251026T010000
END:STANDARD
BEGIN:DAYLIGHT
TZOFFSETFROM:+0100
TZOFFSETTO:+0200
TZNAME:CEST
DTSTART:20260329T010000
END:DAYLIGHT
BEGIN:STANDARD
TZOFFSETFROM:+0200
TZOFFSETTO:+0100
TZNAME:CET
DTSTART:20261025T010000
END:STANDARD
BEGIN:DAYLIGHT
TZOFFSETFROM:+0100
TZOFFSETTO:+0200
TZNAME:CEST
DTSTART:20270328T010000
END:DAYLIGHT
BEGIN:STANDARD
TZOFFSETFROM:+0200
TZOFFSETTO:+0100
TZNAME:CET
DTSTART:20271031T010000
END:STANDARD
END:VTIMEZONE
BEGIN:VEVENT
DTSTART;TZID=Europe/Stockholm:20260413T183000
DTEND;TZID=Europe/Stockholm:20260413T200000
DTSTAMP:20260421T150311
CREATED:20250827T183505Z
LAST-MODIFIED:20250827T183505Z
UID:10000671-1776105000-1776110400@vgof.se
SUMMARY:Fågelmöte
DESCRIPTION:Anders Svensson visar bilder från en spännande resa till det exotiska Costa Rica\, del 2.
URL:https://vgof.se/evenemang/fagelmote-7/
LOCATION:Centralen\, Tranemo bibliotek\, Centralen\, Tranemo bibliotek\, Tranemo\, 51433
ATTACH;FMTTYPE=image/jpeg:https://vgof.se/wp-content/uploads/sites/31/2018/07/tnf.jpg
GEO:57.4861665;13.3782002
X-APPLE-STRUCTURED-LOCATION;VALUE=URI;X-ADDRESS=Centralen Tranemo bibliotek Centralen Tranemo bibliotek Tranemo 51433;X-APPLE-RADIUS=500;X-TITLE=Centralen\, Tranemo bibliotek:geo:13.3782002,57.4861665
END:VEVENT
END:VCALENDAR