BEGIN:VCALENDAR
VERSION:2.0
PRODID:-//Västergötlands ornitologiska förening - ECPv6.15.17.1//NONSGML v1.0//EN
CALSCALE:GREGORIAN
METHOD:PUBLISH
X-WR-CALNAME:Västergötlands ornitologiska förening
X-ORIGINAL-URL:https://vgof.se
X-WR-CALDESC:Händelser för Västergötlands ornitologiska förening
REFRESH-INTERVAL;VALUE=DURATION:PT1H
X-Robots-Tag:noindex
X-PUBLISHED-TTL:PT1H
BEGIN:VTIMEZONE
TZID:Europe/Stockholm
BEGIN:DAYLIGHT
TZOFFSETFROM:+0100
TZOFFSETTO:+0200
TZNAME:CEST
DTSTART:20250330T010000
END:DAYLIGHT
BEGIN:STANDARD
TZOFFSETFROM:+0200
TZOFFSETTO:+0100
TZNAME:CET
DTSTART:20251026T010000
END:STANDARD
BEGIN:DAYLIGHT
TZOFFSETFROM:+0100
TZOFFSETTO:+0200
TZNAME:CEST
DTSTART:20260329T010000
END:DAYLIGHT
BEGIN:STANDARD
TZOFFSETFROM:+0200
TZOFFSETTO:+0100
TZNAME:CET
DTSTART:20261025T010000
END:STANDARD
BEGIN:DAYLIGHT
TZOFFSETFROM:+0100
TZOFFSETTO:+0200
TZNAME:CEST
DTSTART:20270328T010000
END:DAYLIGHT
BEGIN:STANDARD
TZOFFSETFROM:+0200
TZOFFSETTO:+0100
TZNAME:CET
DTSTART:20271031T010000
END:STANDARD
END:VTIMEZONE
BEGIN:VEVENT
DTSTART;TZID=Europe/Stockholm:20260501T070000
DTEND;TZID=Europe/Stockholm:20260501T130000
DTSTAMP:20260421T144049
CREATED:20250827T183646Z
LAST-MODIFIED:20250827T183646Z
UID:10000672-1777618800-1777640400@vgof.se
SUMMARY:1:a majrundan
DESCRIPTION:Traditionsenlig fågelrunda till kommunens bästa fågellokaler. \nSamling på Tranängskolans parkering 07:00. \nAnsvarig: Björn-Åke Andersson 072-3072414
URL:https://vgof.se/evenemang/1a-majrundan/
LOCATION:Tranängskolan\, Brogatan 18\, Tranemo\, 51433\, Sverige
ATTACH;FMTTYPE=image/jpeg:https://vgof.se/wp-content/uploads/sites/31/2018/07/tnf.jpg
GEO:57.488943;13.3434639
X-APPLE-STRUCTURED-LOCATION;VALUE=URI;X-ADDRESS=Tranängskolan Brogatan 18 Tranemo 51433 Sverige;X-APPLE-RADIUS=500;X-TITLE=Brogatan 18:geo:13.3434639,57.488943
END:VEVENT
END:VCALENDAR