BEGIN:VCALENDAR
VERSION:2.0
PRODID:-//Västergötlands ornitologiska förening - ECPv6.15.17.1//NONSGML v1.0//EN
CALSCALE:GREGORIAN
METHOD:PUBLISH
X-WR-CALNAME:Västergötlands ornitologiska förening
X-ORIGINAL-URL:https://vgof.se
X-WR-CALDESC:Händelser för Västergötlands ornitologiska förening
REFRESH-INTERVAL;VALUE=DURATION:PT1H
X-Robots-Tag:noindex
X-PUBLISHED-TTL:PT1H
BEGIN:VTIMEZONE
TZID:Europe/Stockholm
BEGIN:DAYLIGHT
TZOFFSETFROM:+0100
TZOFFSETTO:+0200
TZNAME:CEST
DTSTART:20250330T010000
END:DAYLIGHT
BEGIN:STANDARD
TZOFFSETFROM:+0200
TZOFFSETTO:+0100
TZNAME:CET
DTSTART:20251026T010000
END:STANDARD
BEGIN:DAYLIGHT
TZOFFSETFROM:+0100
TZOFFSETTO:+0200
TZNAME:CEST
DTSTART:20260329T010000
END:DAYLIGHT
BEGIN:STANDARD
TZOFFSETFROM:+0200
TZOFFSETTO:+0100
TZNAME:CET
DTSTART:20261025T010000
END:STANDARD
BEGIN:DAYLIGHT
TZOFFSETFROM:+0100
TZOFFSETTO:+0200
TZNAME:CEST
DTSTART:20270328T010000
END:DAYLIGHT
BEGIN:STANDARD
TZOFFSETFROM:+0200
TZOFFSETTO:+0100
TZNAME:CET
DTSTART:20271031T010000
END:STANDARD
END:VTIMEZONE
BEGIN:VEVENT
DTSTART;TZID=Europe/Stockholm:20260517T060000
DTEND;TZID=Europe/Stockholm:20260517T060000
DTSTAMP:20260421T133129
CREATED:20260118T140103Z
LAST-MODIFIED:20260118T140103Z
UID:4568-1778997600-1778997600@vgof.se
SUMMARY:Bastöna vid Rösjön
DESCRIPTION:En tradition numera. Vandringen våren 2025 var fantastisk så vi försöker upprepa den succén. \nDet finns numera en spångad vandringsled som man når från vägen ner till Rösjön via Ryd. \nFåglar och allmän natur. Det är få skådare som besöker mossen\, så det är angeläget att vi ägnar den en varm omtanke. \nAnmälan till Åke tfn 070 660 245
URL:https://vgof.se/evenemang/bastona-vid-rosjon/
LOCATION:Wetterlinsgatan 23A Falköping\, Wetterlinsgatan 23A\, Falköping\, Sverige
ATTACH;FMTTYPE=image/jpeg:https://vgof.se/wp-content/uploads/sites/31/2018/07/ffk.jpg
END:VEVENT
END:VCALENDAR