BEGIN:VCALENDAR
VERSION:2.0
PRODID:-//Västergötlands ornitologiska förening - ECPv6.15.17.1//NONSGML v1.0//EN
CALSCALE:GREGORIAN
METHOD:PUBLISH
X-WR-CALNAME:Västergötlands ornitologiska förening
X-ORIGINAL-URL:https://vgof.se
X-WR-CALDESC:Händelser för Västergötlands ornitologiska förening
REFRESH-INTERVAL;VALUE=DURATION:PT1H
X-Robots-Tag:noindex
X-PUBLISHED-TTL:PT1H
BEGIN:VTIMEZONE
TZID:Europe/Stockholm
BEGIN:DAYLIGHT
TZOFFSETFROM:+0100
TZOFFSETTO:+0200
TZNAME:CEST
DTSTART:20250330T010000
END:DAYLIGHT
BEGIN:STANDARD
TZOFFSETFROM:+0200
TZOFFSETTO:+0100
TZNAME:CET
DTSTART:20251026T010000
END:STANDARD
BEGIN:DAYLIGHT
TZOFFSETFROM:+0100
TZOFFSETTO:+0200
TZNAME:CEST
DTSTART:20260329T010000
END:DAYLIGHT
BEGIN:STANDARD
TZOFFSETFROM:+0200
TZOFFSETTO:+0100
TZNAME:CET
DTSTART:20261025T010000
END:STANDARD
BEGIN:DAYLIGHT
TZOFFSETFROM:+0100
TZOFFSETTO:+0200
TZNAME:CEST
DTSTART:20270328T010000
END:DAYLIGHT
BEGIN:STANDARD
TZOFFSETFROM:+0200
TZOFFSETTO:+0100
TZNAME:CET
DTSTART:20271031T010000
END:STANDARD
END:VTIMEZONE
BEGIN:VEVENT
DTSTART;TZID=Europe/Stockholm:20260505T180000
DTEND;TZID=Europe/Stockholm:20260505T180000
DTSTAMP:20260421T133021
CREATED:20260118T135705Z
LAST-MODIFIED:20260118T135705Z
UID:4564-1778004000-1778004000@vgof.se
SUMMARY:Brushanekväll vid Trandansen
DESCRIPTION:Mångårig aktivitet med förhoppning om många brushanar\, dessutom en hel del andra vadare. \nVissa år är enorma andra är mer avslagna. Allt styrs av vilket flyttväder som råder vid tillfället.\nTa med eget fika i förekommande fall. \nAnita Ljungström leder det hela\, Anita har tfn 070 587 09 08. Ingen anmälan.
URL:https://vgof.se/evenemang/brushanekvall-vid-trandansen/
LOCATION:Naturum Trandansen\, Hornborgasjön\, Trandansen\, 521 94\, Sverige
ATTACH;FMTTYPE=image/jpeg:https://vgof.se/wp-content/uploads/sites/31/2018/07/ffk.jpg
END:VEVENT
END:VCALENDAR