BEGIN:VCALENDAR
VERSION:2.0
PRODID:-//Västergötlands ornitologiska förening - ECPv6.15.17.1//NONSGML v1.0//EN
CALSCALE:GREGORIAN
METHOD:PUBLISH
X-WR-CALNAME:Västergötlands ornitologiska förening
X-ORIGINAL-URL:https://vgof.se
X-WR-CALDESC:Händelser för Västergötlands ornitologiska förening
REFRESH-INTERVAL;VALUE=DURATION:PT1H
X-Robots-Tag:noindex
X-PUBLISHED-TTL:PT1H
BEGIN:VTIMEZONE
TZID:Europe/Stockholm
BEGIN:DAYLIGHT
TZOFFSETFROM:+0100
TZOFFSETTO:+0200
TZNAME:CEST
DTSTART:20250330T010000
END:DAYLIGHT
BEGIN:STANDARD
TZOFFSETFROM:+0200
TZOFFSETTO:+0100
TZNAME:CET
DTSTART:20251026T010000
END:STANDARD
BEGIN:DAYLIGHT
TZOFFSETFROM:+0100
TZOFFSETTO:+0200
TZNAME:CEST
DTSTART:20260329T010000
END:DAYLIGHT
BEGIN:STANDARD
TZOFFSETFROM:+0200
TZOFFSETTO:+0100
TZNAME:CET
DTSTART:20261025T010000
END:STANDARD
BEGIN:DAYLIGHT
TZOFFSETFROM:+0100
TZOFFSETTO:+0200
TZNAME:CEST
DTSTART:20270328T010000
END:DAYLIGHT
BEGIN:STANDARD
TZOFFSETFROM:+0200
TZOFFSETTO:+0100
TZNAME:CET
DTSTART:20271031T010000
END:STANDARD
END:VTIMEZONE
BEGIN:VEVENT
DTSTART;TZID=Europe/Stockholm:20260507T210000
DTEND;TZID=Europe/Stockholm:20260507T210000
DTSTAMP:20260421T150132
CREATED:20260118T135847Z
LAST-MODIFIED:20260118T135901Z
UID:4566-1778187600-1778187600@vgof.se
SUMMARY:Dubbelbeckasiner på Hornborgamaden
DESCRIPTION:Ibland lyckas vi bra med dubbelbeckasinerna och ibland går det inte alls.\nDubbelbeckasinerna vid Hornborgasjön har blivit något helt annat i och med\nhöstens upptäckter. Den här kvällen skall vi emellertid lyssna där vi brukar\, således\nen bit ner på Hornbrorgamaden. Samling på parkeringsplatsen till Almeö klockan\n21.30. Anmälan till Lennart Friggeråker som leder\, Lennart har tfn 070 343 28 24.\nViktigt med tanke på den lilla parkeringsplatsen.
URL:https://vgof.se/evenemang/dubbelbeckasiner-pa-hornborgamaden/
LOCATION:Almeö
ATTACH;FMTTYPE=image/jpeg:https://vgof.se/wp-content/uploads/sites/31/2018/07/ffk.jpg
END:VEVENT
END:VCALENDAR