BEGIN:VCALENDAR
VERSION:2.0
PRODID:-//Västergötlands ornitologiska förening - ECPv6.15.17.1//NONSGML v1.0//EN
CALSCALE:GREGORIAN
METHOD:PUBLISH
X-ORIGINAL-URL:https://vgof.se
X-WR-CALDESC:Händelser för Västergötlands ornitologiska förening
REFRESH-INTERVAL;VALUE=DURATION:PT1H
X-Robots-Tag:noindex
X-PUBLISHED-TTL:PT1H
BEGIN:VTIMEZONE
TZID:Europe/Stockholm
BEGIN:DAYLIGHT
TZOFFSETFROM:+0100
TZOFFSETTO:+0200
TZNAME:CEST
DTSTART:20250330T010000
END:DAYLIGHT
BEGIN:STANDARD
TZOFFSETFROM:+0200
TZOFFSETTO:+0100
TZNAME:CET
DTSTART:20251026T010000
END:STANDARD
BEGIN:DAYLIGHT
TZOFFSETFROM:+0100
TZOFFSETTO:+0200
TZNAME:CEST
DTSTART:20260329T010000
END:DAYLIGHT
BEGIN:STANDARD
TZOFFSETFROM:+0200
TZOFFSETTO:+0100
TZNAME:CET
DTSTART:20261025T010000
END:STANDARD
BEGIN:DAYLIGHT
TZOFFSETFROM:+0100
TZOFFSETTO:+0200
TZNAME:CEST
DTSTART:20270328T010000
END:DAYLIGHT
BEGIN:STANDARD
TZOFFSETFROM:+0200
TZOFFSETTO:+0100
TZNAME:CET
DTSTART:20271031T010000
END:STANDARD
END:VTIMEZONE
BEGIN:VEVENT
DTSTART;TZID=Europe/Stockholm:20260605T220000
DTEND;TZID=Europe/Stockholm:20260605T220000
DTSTAMP:20260421T180209
CREATED:20260118T140814Z
LAST-MODIFIED:20260118T140814Z
UID:10000717-1780696800-1780696800@vgof.se
SUMMARY:Nattskärror i Gryten
DESCRIPTION:Vi hade oerhört fina upplevelser i Gryten förra sommaren så vi satsar på det. Det är ett bra tag sedan vi\nbesökte knotten på Skövde skjutfält. Det behövs inte\, det räcker väl med vad vi har\nnära! Det går väldigt bra för nattskärrorna i Sverige! \nSamling på Fredriksbergskyrkans parkering klockan 22 eller på plats vid infarten till norra vägen i\nGryten klockan 22.20. \nÅke Abrahamsson leder. Anmälan behövs inte.
URL:https://vgof.se/evenemang/nattskarror-i-gryten/
LOCATION:Wetterlinsgatan 23A Falköping\, Wetterlinsgatan 23A\, Falköping\, Sverige
ATTACH;FMTTYPE=image/jpeg:https://vgof.se/wp-content/uploads/sites/31/2018/07/ffk.jpg
END:VEVENT
BEGIN:VEVENT
DTSTART;TZID=Europe/Stockholm:20260609T200000
DTEND;TZID=Europe/Stockholm:20260609T200000
DTSTAMP:20260421T180209
CREATED:20260118T142516Z
LAST-MODIFIED:20260118T142516Z
UID:10000725-1781035200-1781035200@vgof.se
SUMMARY:Exkursion – nattsångare
DESCRIPTION:Vi satsar på den 9 juni för denna exkursion. Nattsångare är petiga med vilket väder det är så exkursionen kan bli flyttad. \nSamling vid Studiefrämjandet klockan 20:00.
URL:https://vgof.se/evenemang/exkursion-nattsangare/
LOCATION:Kållandsgatan 20\, Kållandsgatan 20\, Lidköping\, Sverige
ATTACH;FMTTYPE=image/jpeg:https://vgof.se/wp-content/uploads/sites/31/2018/07/lfk.jpg
END:VEVENT
BEGIN:VEVENT
DTSTART;TZID=Europe/Stockholm:20260611T180000
DTEND;TZID=Europe/Stockholm:20260611T180000
DTSTAMP:20260421T180209
CREATED:20260118T140951Z
LAST-MODIFIED:20260118T140951Z
UID:10000718-1781200800-1781200800@vgof.se
SUMMARY:Småvattenkväll
DESCRIPTION:Besök vid något eller några av våra fina småvatten här på Falbygden. Vart vi styr färden får vi se. \nLennart Friggeråker leder och han tar emot anmälan på tfn 070 343 28 24. \nVi har flera hundra småvatten i kommunen. \nFlera är lyxigt bra fågellokaler och många är dessutom lätta att besöka. Passa på!
URL:https://vgof.se/evenemang/smavattenkvall/
LOCATION:Wetterlinsgatan 23A Falköping\, Wetterlinsgatan 23A\, Falköping\, Sverige
ATTACH;FMTTYPE=image/jpeg:https://vgof.se/wp-content/uploads/sites/31/2018/07/ffk.jpg
END:VEVENT
BEGIN:VEVENT
DTSTART;TZID=Europe/Stockholm:20260616T180000
DTEND;TZID=Europe/Stockholm:20260616T180000
DTSTAMP:20260421T180209
CREATED:20260118T133047Z
LAST-MODIFIED:20260118T133117Z
UID:10000700-1781632800-1781632800@vgof.se
SUMMARY:Månadsmöte vid Bergsstugan
DESCRIPTION:Vi avslutar vårsäsongen på Mösseberg\, som vi har gjort tidigare. \nVi ordnar med fika som vi brukar göra. \nVälkomna!
URL:https://vgof.se/evenemang/manadsmote-vid-bergsstugan/
LOCATION:Wetterlinsgatan 23A Falköping\, Wetterlinsgatan 23A\, Falköping\, Sverige
ATTACH;FMTTYPE=image/jpeg:https://vgof.se/wp-content/uploads/sites/31/2018/07/ffk.jpg
END:VEVENT
END:VCALENDAR