BEGIN:VCALENDAR
VERSION:2.0
PRODID:-//Västergötlands ornitologiska förening - ECPv6.15.17.1//NONSGML v1.0//EN
CALSCALE:GREGORIAN
METHOD:PUBLISH
X-WR-CALNAME:Västergötlands ornitologiska förening
X-ORIGINAL-URL:https://vgof.se
X-WR-CALDESC:Händelser för Västergötlands ornitologiska förening
REFRESH-INTERVAL;VALUE=DURATION:PT1H
X-Robots-Tag:noindex
X-PUBLISHED-TTL:PT1H
BEGIN:VTIMEZONE
TZID:Europe/Stockholm
BEGIN:DAYLIGHT
TZOFFSETFROM:+0100
TZOFFSETTO:+0200
TZNAME:CEST
DTSTART:20250330T010000
END:DAYLIGHT
BEGIN:STANDARD
TZOFFSETFROM:+0200
TZOFFSETTO:+0100
TZNAME:CET
DTSTART:20251026T010000
END:STANDARD
BEGIN:DAYLIGHT
TZOFFSETFROM:+0100
TZOFFSETTO:+0200
TZNAME:CEST
DTSTART:20260329T010000
END:DAYLIGHT
BEGIN:STANDARD
TZOFFSETFROM:+0200
TZOFFSETTO:+0100
TZNAME:CET
DTSTART:20261025T010000
END:STANDARD
BEGIN:DAYLIGHT
TZOFFSETFROM:+0100
TZOFFSETTO:+0200
TZNAME:CEST
DTSTART:20270328T010000
END:DAYLIGHT
BEGIN:STANDARD
TZOFFSETFROM:+0200
TZOFFSETTO:+0100
TZNAME:CET
DTSTART:20271031T010000
END:STANDARD
END:VTIMEZONE
BEGIN:VEVENT
DTSTART;TZID=Europe/Stockholm:20260519T190000
DTEND;TZID=Europe/Stockholm:20260519T190000
DTSTAMP:20260421T133140
CREATED:20260118T132849Z
LAST-MODIFIED:20260118T132849Z
UID:4546-1779217200-1779217200@vgof.se
SUMMARY:Månadsmöte vid Utloppet
DESCRIPTION:Korv att grilla har vi med men dryck och fika får du ha med själv. \nAtt samlas runt grillen vid vallen i utloppet har blivit en tradition. \nEn vandring längst vallen hör till när trastsångarna sjunger som allra bäst. \nMeddela gärna behov av skjuts till Lennart\, Anita eller Åke.
URL:https://vgof.se/evenemang/manadsmote-vid-utloppet/
LOCATION:Utloppet\, Hornborgasjön\, Utloppet\, Hornborgasjön\, Broddetorp\, 52198\, Sverige
ATTACH;FMTTYPE=image/jpeg:https://vgof.se/wp-content/uploads/sites/31/2018/07/ffk.jpg
END:VEVENT
END:VCALENDAR